BEGIN:VCALENDAR
VERSION:2.0
PRODID:GlueUp
CALSCALE:GREGORIAN
BEGIN:VTIMEZONE
TZID:UTC
BEGIN:STANDARD
DTSTART:19700101T000000
TZOFFSETFROM:+0000
TZOFFSETTO:+0000
TZNAME:UTC
END:STANDARD
END:VTIMEZONE
BEGIN:VEVENT
TZ:+00
ORGANIZER;CN=Jingyi DONG:MAILTO:jingyi@ischam.org
UID:26538-1777142009@https://ischam.glueup.cn
DTSTAMP:20260425T183329Z
DTSTART:20200427T110000Z
DTEND:20200427T120000Z
SUMMARY:Medical Webinar | Together We Will Change The Future of Healthcare
DESCRIPTION:Medical Webinar | Together We Will Change The Future of Healthcare by IsCham\n\nApr 27, 2020 (19:00 - 20:00)(GMT+8)\n\nFor more information, click here: https://ischam.glueup.cn/my/events/26538
LOCATION:Online
BEGIN:VALARM
TRIGGER:-PT48H
REPEAT:4
DURATION:PT30M
ACTION:DISPLAY
END:VALARM
END:VEVENT
END:VCALENDAR