BEGIN:VCALENDAR
VERSION:2.0
PRODID:GlueUp
CALSCALE:GREGORIAN
BEGIN:VTIMEZONE
TZID:UTC
BEGIN:STANDARD
DTSTART:19700101T000000
TZOFFSETFROM:+0000
TZOFFSETTO:+0000
TZNAME:UTC
END:STANDARD
END:VTIMEZONE
BEGIN:VEVENT
TZ:+00
ORGANIZER;CN=Tslil Kleiman:MAILTO:tslil@viameshi.org
UID:36046-1776797065@https://ischam.glueup.cn
DTSTAMP:20260421T184425Z
DTSTART:20220510T070000Z
DTEND:20220510T090000Z
SUMMARY:EXPERTS TALK CHINA
DESCRIPTION:EXPERTS TALK CHINA by IsCham\n\nMay 10, 2022 (10:00 - 12:00)(GMT+3)\n\nFor more information, click here: https://ischam.glueup.cn/my/events/36046
LOCATION:Innonation Venture Capital - HaBarzel Street 30 - Ramat Hahayal Tel Aviv-Yafo - Tel Aviv District - Israel
BEGIN:VALARM
TRIGGER:-PT48H
REPEAT:4
DURATION:PT30M
ACTION:DISPLAY
END:VALARM
END:VEVENT
END:VCALENDAR