BEGIN:VCALENDAR
VERSION:2.0
PRODID:GlueUp
CALSCALE:GREGORIAN
BEGIN:VTIMEZONE
TZID:UTC
BEGIN:STANDARD
DTSTART:19700101T000000
TZOFFSETFROM:+0000
TZOFFSETTO:+0000
TZNAME:UTC
END:STANDARD
END:VTIMEZONE
BEGIN:VEVENT
TZ:+00
ORGANIZER;CN=Crystal Liu:MAILTO:crystal.l@ischam.org
UID:19886-1776898235@https://ischam.glueup.cn
DTSTAMP:20260422T225035Z
DTSTART:20181209T080000Z
DTEND:20181209T102000Z
SUMMARY:Hanukkah Celebration, Dec 9th  <Br> 12月9日光明节庆祝活动
DESCRIPTION:Hanukkah Celebration, Dec 9th  <Br> 12月9日光明节庆祝活动 by IsCham\n\nDec 9, 2018 (16:00 - 18:20)(GMT+8)\n\nFor more information, click here: https://ischam.glueup.cn/my/events/19886
LOCATION:IBCC- Israeli Business and Cultural Center - No. 3 - 798 East Street of 798 Art Zone - No.2 Jiuxianqiao: Road - Chaoyang District - Beijing Beijing - China
BEGIN:VALARM
TRIGGER:-PT48H
REPEAT:4
DURATION:PT30M
ACTION:DISPLAY
END:VALARM
END:VEVENT
END:VCALENDAR